Workbook
Name Доходы_НИР: Лист1!$B$4
Name К_Статей: Лист1!$B$3
Name Обеспеченность: Лист1!$B$1
Name Успеваемость: Лист1!$B$2

Sheet Сводная
A1: Отчет по показателям эффективности кафедры
A2: лдгргшпнржогпж
X3: наименование кафедры
X4: с 1.09.2025 по 31.08.2026
A6: № п/п | B6: ФИО | C6: Должность | E6: Ученое звание | F6: Ученая степень | G6: Категория ППС | H6: Занимаемая ставка | I6: Стимулирующие показатели | BB6: Итого баллов
B7: ФИО | I7: 1 | J7: 2 | K7: 3 | L7: 4 | M7: 5 | N7: 6 | O7: 7 | P7: 8 | Q7: 9 | R7: 10 | S7: 11 | T7: 12 | U7: 13 | V7: 14 | W7: 15 | X7: 16 | Y7: 17 | Z7: 18 | AA7: 19 | AB7: 20 | AC7: 21 | AD7: 22 | AE7: 23 | AF7: 24 | AG7: 25 | AH7: 26 | AI7: 27 | AJ7: 28 | AK7: 29 | AL7: 30 | AM7: 31 | AN7: 32 | AO7: 33 | AP7: 34 | AQ7: 35 | AR7: 36 | AS7: 37 | AT7: 38 | AU7: 39 | AV7: 40 | AW7: 41 | AX7: 42 | AY7: 43 | AZ7: 44 | BA7: 45
B8: ФИО | C8: Административная | D8: Преподавательская | R8: 10 | S8: 11 | T8: 12 | U8: 13
A9: 1 | I9: ='Стимулирующие показатели'!C9 -> 0 | J9: ='Стимулирующие показатели'!D9 -> 0 | K9: ='Стимулирующие показатели'!E9 -> 0 | L9: ='Стимулирующие показатели'!F9 -> 0 | M9: ='Стимулирующие показатели'!G9 -> 0 | N9: ='Стимулирующие показатели'!H9+'Стимулирующие показатели'!I9 -> 0 | O9: ='Стимулирующие показатели'!J9 -> 0 | P9: ='Стимулирующие показатели'!K9 -> 0 | Q9: ='Стимулирующие показатели'!L9 -> 0 | R9: ='Стимулирующие показатели'!M9+'Стимулирующие показатели'!N9 -> 0 | S9: ='Стимулирующие показатели'!O9 -> 0 | T9: ='Стимулирующие показатели'!P9 -> 0 | U9: ='Стимулирующие показатели'!Q9 -> 0 | V9: ='Стимулирующие показатели'!R9 -> 0 | W9: ='Стимулирующие показатели'!S9 -> 0 | X9: ='Стимулирующие показатели'!T9 -> 0 | Y9: ='Стимулирующие показатели'!U9 -> 0 | Z9: ='Стимулирующие показатели'!V9 -> 0 | ... AF9: ='Стимулирующие показатели'!AB9 -> 0 | AG9: ='Стимулирующие показатели'!AC9+'Стимулирующие показатели'!AD9+'Стимулирующие показатели'!AE9 -> 0 | AH9: ='Стимулирующие показатели'!AF9 -> 0 | AI9: ='Стимулирующие показатели'!AG9 -> 0 | AJ9: ='Стимулирующие показатели'!AH9 -> 0 | AK9: ='Стимулирующие показатели'!AI9 -> 0 | AL9: ='Стимулирующие показатели'!AJ9 -> 0 | AM9: ='Стимулирующие показатели'!AK9 -> 0 | AN9: ='Стимулирующие показатели'!AL9+'Стимулирующие показатели'!AM9+'Стимулирующие показатели'!AN9+'Стимулирующие показатели'!AO9 -> 0 | AO9: ='Стимулирующие показатели'!AP9 -> 0 | AP9: ='Стимулирующие показатели'!AQ9 -> 0 | AQ9: ='Стимулирующие показатели'!AR9 -> 0 | AR9: ='Стимулирующие показатели'!AS9+'Стимулирующие показатели'!AT9+'Стимулирующие показатели'!AU9+'Стимулирующие показатели'!AV9 -> 0 | AS9: ='Стимулирующие показатели'!AW9 -> 0 | AT9: ='Стимулирующие показатели'!AX9 -> 0 | AU9: ='Стимулирующие показатели'!AY9+'Стимулирующие показатели'!AZ9+'Стимулирующие показатели'!BA9+'Стимулирующие показатели'!BB9+'Стимулирующие показатели'!BC9 -> 0 | AV9: ='Стимулирующие показатели'!BD9 -> 0 | AW9: ='Стимулирующие показатели'!BE9+'Стимулирующие показатели'!BF9+'Стимулирующие показатели'!BG9 -> 0 | AX9: ='Стимулирующие показатели'!BH9+'Стимулирующие показатели'!BI9+'Стимулирующие показатели'!BJ9+'Стимулирующие показатели'!BK9 -> 0 | AY9: ='Стимулирующие показатели'!BL9 -> 0 | AZ9: ='Стимулирующие показатели'!BM9 -> 0 | BA9: ='Стимулирующие показатели'!BN9 -> 0 | BB9: =SUM(I9:BA9) -> 0
A10: 2 | I10: ='Стимулирующие показатели'!C10 -> 0 | J10: ='Стимулирующие показатели'!D10 -> 0 | K10: ='Стимулирующие показатели'!E10 -> 0 | L10: ='Стимулирующие показатели'!F10 -> 0 | M10: ='Стимулирующие показатели'!G10 -> 0 | N10: ='Стимулирующие показатели'!H10+'Стимулирующие показатели'!I10 -> 0 | O10: ='Стимулирующие показатели'!J10 -> 0 | P10: ='Стимулирующие показатели'!K10 -> 0 | Q10: ='Стимулирующие показатели'!L10 -> 0 | R10: ='Стимулирующие показатели'!M10+'Стимулирующие показатели'!N10 -> 0 | S10: ='Стимулирующие показатели'!O10 -> 0 | T10: ='Стимулирующие показатели'!P10 -> 0 | U10: ='Стимулирующие показатели'!Q10 -> 0 | V10: ='Стимулирующие показатели'!R10 -> 0 | W10: ='Стимулирующие показатели'!S10 -> 0 | X10: ='Стимулирующие показатели'!T10 -> 0 | Y10: ='Стимулирующие показатели'!U10 -> 0 | Z10: ='Стимулирующие показатели'!V10 -> 0 | ... AF10: ='Стимулирующие показатели'!AB10 -> 0 | AG10: ='Стимулирующие показатели'!AC10+'Стимулирующие показатели'!AD10+'Стимулирующие показатели'!AE10 -> 0 | AH10: ='Стимулирующие показатели'!AF10 -> 0 | AI10: ='Стимулирующие показатели'!AG10 -> 0 | AJ10: ='Стимулирующие показатели'!AH10 -> 0 | AK10: ='Стимулирующие показатели'!AI10 -> 0 | AL10: ='Стимулирующие показатели'!AJ10 -> 0 | AM10: ='Стимулирующие показатели'!AK10 -> 0 | AN10: ='Стимулирующие показатели'!AL10+'Стимулирующие показатели'!AM10+'Стимулирующие показатели'!AN10+'Стимулирующие показатели'!AO10 -> 0 | AO10: ='Стимулирующие показатели'!AP10 -> 0 | AP10: ='Стимулирующие показатели'!AQ10 -> 0 | AQ10: ='Стимулирующие показатели'!AR10 -> 0 | AR10: ='Стимулирующие показатели'!AS10+'Стимулирующие показатели'!AT10+'Стимулирующие показатели'!AU10+'Стимулирующие показатели'!AV10 -> 0 | AS10: ='Стимулирующие показатели'!AW10 -> 0 | AT10: ='Стимулирующие показатели'!AX10 -> 0 | AU10: ='Стимулирующие показатели'!AY10+'Стимулирующие показатели'!AZ10+'Стимулирующие показатели'!BA10+'Стимулирующие показатели'!BB10+'Стимулирующие показатели'!BC10 -> 0 | AV10: ='Стимулирующие показатели'!BD10 -> 0 | AW10: ='Стимулирующие показатели'!BE10+'Стимулирующие показатели'!BF10+'Стимулирующие показатели'!BG10 -> 0 | AX10: ='Стимулирующие показатели'!BH10+'Стимулирующие показатели'!BI10+'Стимулирующие показатели'!BJ10+'Стимулирующие показатели'!BK10 -> 0 | AY10: ='Стимулирующие показатели'!BL10 -> 0 | AZ10: ='Стимулирующие показатели'!BM10 -> 0 | BA10: ='Стимулирующие показатели'!BN10 -> 0 | BB10: =SUM(I10:BA10) -> 0
A11: 3 | I11: ='Стимулирующие показатели'!C11 -> 0 | J11: ='Стимулирующие показатели'!D11 -> 0 | K11: ='Стимулирующие показатели'!E11 -> 0 | L11: ='Стимулирующие показатели'!F11 -> 0 | M11: ='Стимулирующие показатели'!G11 -> 0 | N11: ='Стимулирующие показатели'!H11+'Стимулирующие показатели'!I11 -> 0 | O11: ='Стимулирующие показатели'!J11 -> 0 | P11: ='Стимулирующие показатели'!K11 -> 0 | Q11: ='Стимулирующие показатели'!L11 -> 0 | R11: ='Стимулирующие показатели'!M11+'Стимулирующие показатели'!N11 -> 0 | S11: ='Стимулирующие показатели'!O11 -> 0 | T11: ='Стимулирующие показатели'!P11 -> 0 | U11: ='Стимулирующие показатели'!Q11 -> 0 | V11: ='Стимулирующие показатели'!R11 -> 0 | W11: ='Стимулирующие показатели'!S11 -> 0 | X11: ='Стимулирующие показатели'!T11 -> 0 | Y11: ='Стимулирующие показатели'!U11 -> 0 | Z11: ='Стимулирующие показатели'!V11 -> 0 | ... AF11: ='Стимулирующие показатели'!AB11 -> 0 | AG11: ='Стимулирующие показатели'!AC11+'Стимулирующие показатели'!AD11+'Стимулирующие показатели'!AE11 -> 0 | AH11: ='Стимулирующие показатели'!AF11 -> 0 | AI11: ='Стимулирующие показатели'!AG11 -> 0 | AJ11: ='Стимулирующие показатели'!AH11 -> 0 | AK11: ='Стимулирующие показатели'!AI11 -> 0 | AL11: ='Стимулирующие показатели'!AJ11 -> 0 | AM11: ='Стимулирующие показатели'!AK11 -> 0 | AN11: ='Стимулирующие показатели'!AL11+'Стимулирующие показатели'!AM11+'Стимулирующие показатели'!AN11+'Стимулирующие показатели'!AO11 -> 0 | AO11: ='Стимулирующие показатели'!AP11 -> 0 | AP11: ='Стимулирующие показатели'!AQ11 -> 0 | AQ11: ='Стимулирующие показатели'!AR11 -> 0 | AR11: ='Стимулирующие показатели'!AS11+'Стимулирующие показатели'!AT11+'Стимулирующие показатели'!AU11+'Стимулирующие показатели'!AV11 -> 0 | AS11: ='Стимулирующие показатели'!AW11 -> 0 | AT11: ='Стимулирующие показатели'!AX11 -> 0 | AU11: ='Стимулирующие показатели'!AY11+'Стимулирующие показатели'!AZ11+'Стимулирующие показатели'!BA11+'Стимулирующие показатели'!BB11+'Стимулирующие показатели'!BC11 -> 0 | AV11: ='Стимулирующие показатели'!BD11 -> 0 | AW11: ='Стимулирующие показатели'!BE11+'Стимулирующие показатели'!BF11+'Стимулирующие показатели'!BG11 -> 0 | AX11: ='Стимулирующие показатели'!BH11+'Стимулирующие показатели'!BI11+'Стимулирующие показатели'!BJ11+'Стимулирующие показатели'!BK11 -> 0 | AY11: ='Стимулирующие показатели'!BL11 -> 0 | AZ11: ='Стимулирующие показатели'!BM11 -> 0 | BA11: ='Стимулирующие показатели'!BN11 -> 0 | BB11: =SUM(I11:BA11) -> 0
A12: 4 | I12: ='Стимулирующие показатели'!C12 -> 0 | J12: ='Стимулирующие показатели'!D12 -> 0 | K12: ='Стимулирующие показатели'!E12 -> 0 | L12: ='Стимулирующие показатели'!F12 -> 0 | M12: ='Стимулирующие показатели'!G12 -> 0 | N12: ='Стимулирующие показатели'!H12+'Стимулирующие показатели'!I12 -> 0 | O12: ='Стимулирующие показатели'!J12 -> 0 | P12: ='Стимулирующие показатели'!K12 -> 0 | Q12: ='Стимулирующие показатели'!L12 -> 0 | R12: ='Стимулирующие показатели'!M12+'Стимулирующие показатели'!N12 -> 0 | S12: ='Стимулирующие показатели'!O12 -> 0 | T12: ='Стимулирующие показатели'!P12 -> 0 | U12: ='Стимулирующие показатели'!Q12 -> 0 | V12: ='Стимулирующие показатели'!R12 -> 0 | W12: ='Стимулирующие показатели'!S12 -> 0 | X12: ='Стимулирующие показатели'!T12 -> 0 | Y12: ='Стимулирующие показатели'!U12 -> 0 | Z12: ='Стимулирующие показатели'!V12 -> 0 | ... AF12: ='Стимулирующие показатели'!AB12 -> 0 | AG12: ='Стимулирующие показатели'!AC12+'Стимулирующие показатели'!AD12+'Стимулирующие показатели'!AE12 -> 0 | AH12: ='Стимулирующие показатели'!AF12 -> 0 | AI12: ='Стимулирующие показатели'!AG12 -> 0 | AJ12: ='Стимулирующие показатели'!AH12 -> 0 | AK12: ='Стимулирующие показатели'!AI12 -> 0 | AL12: ='Стимулирующие показатели'!AJ12 -> 0 | AM12: ='Стимулирующие показатели'!AK12 -> 0 | AN12: ='Стимулирующие показатели'!AL12+'Стимулирующие показатели'!AM12+'Стимулирующие показатели'!AN12+'Стимулирующие показатели'!AO12 -> 0 | AO12: ='Стимулирующие показатели'!AP12 -> 0 | AP12: ='Стимулирующие показатели'!AQ12 -> 0 | AQ12: ='Стимулирующие показатели'!AR12 -> 0 | AR12: ='Стимулирующие показатели'!AS12+'Стимулирующие показатели'!AT12+'Стимулирующие показатели'!AU12+'Стимулирующие показатели'!AV12 -> 0 | AS12: ='Стимулирующие показатели'!AW12 -> 0 | AT12: ='Стимулирующие показатели'!AX12 -> 0 | AU12: ='Стимулирующие показатели'!AY12+'Стимулирующие показатели'!AZ12+'Стимулирующие показатели'!BA12+'Стимулирующие показатели'!BB12+'Стимулирующие показатели'!BC12 -> 0 | AV12: ='Стимулирующие показатели'!BD12 -> 0 | AW12: ='Стимулирующие показатели'!BE12+'Стимулирующие показатели'!BF12+'Стимулирующие показатели'!BG12 -> 0 | AX12: ='Стимулирующие показатели'!BH12+'Стимулирующие показатели'!BI12+'Стимулирующие показатели'!BJ12+'Стимулирующие показатели'!BK12 -> 0 | AY12: ='Стимулирующие показатели'!BL12 -> 0 | AZ12: ='Стимулирующие показатели'!BM12 -> 0 | BA12: ='Стимулирующие показатели'!BN12 -> 0 | BB12: =SUM(I12:BA12) -> 0
A13: 5 | I13: ='Стимулирующие показатели'!C13 -> 0 | J13: ='Стимулирующие показатели'!D13 -> 0 | K13: ='Стимулирующие показатели'!E13 -> 0 | L13: ='Стимулирующие показатели'!F13 -> 0 | M13: ='Стимулирующие показатели'!G13 -> 0 | N13: ='Стимулирующие показатели'!H13+'Стимулирующие показатели'!I13 -> 0 | O13: ='Стимулирующие показатели'!J13 -> 0 | P13: ='Стимулирующие показатели'!K13 -> 0 | Q13: ='Стимулирующие показатели'!L13 -> 0 | R13: ='Стимулирующие показатели'!M13+'Стимулирующие показатели'!N13 -> 0 | S13: ='Стимулирующие показатели'!O13 -> 0 | T13: ='Стимулирующие показатели'!P13 -> 0 | U13: ='Стимулирующие показатели'!Q13 -> 0 | V13: ='Стимулирующие показатели'!R13 -> 0 | W13: ='Стимулирующие показатели'!S13 -> 0 | X13: ='Стимулирующие показатели'!T13 -> 0 | Y13: ='Стимулирующие показатели'!U13 -> 0 | Z13: ='Стимулирующие показатели'!V13 -> 0 | ... AF13: ='Стимулирующие показатели'!AB13 -> 0 | AG13: ='Стимулирующие показатели'!AC13+'Стимулирующие показатели'!AD13+'Стимулирующие показатели'!AE13 -> 0 | AH13: ='Стимулирующие показатели'!AF13 -> 0 | AI13: ='Стимулирующие показатели'!AG13 -> 0 | AJ13: ='Стимулирующие показатели'!AH13 -> 0 | AK13: ='Стимулирующие показатели'!AI13 -> 0 | AL13: ='Стимулирующие показатели'!AJ13 -> 0 | AM13: ='Стимулирующие показатели'!AK13 -> 0 | AN13: ='Стимулирующие показатели'!AL13+'Стимулирующие показатели'!AM13+'Стимулирующие показатели'!AN13+'Стимулирующие показатели'!AO13 -> 0 | AO13: ='Стимулирующие показатели'!AP13 -> 0 | AP13: ='Стимулирующие показатели'!AQ13 -> 0 | AQ13: ='Стимулирующие показатели'!AR13 -> 0 | AR13: ='Стимулирующие показатели'!AS13+'Стимулирующие показатели'!AT13+'Стимулирующие показатели'!AU13+'Стимулирующие показатели'!AV13 -> 0 | AS13: ='Стимулирующие показатели'!AW13 -> 0 | AT13: ='Стимулирующие показатели'!AX13 -> 0 | AU13: ='Стимулирующие показатели'!AY13+'Стимулирующие показатели'!AZ13+'Стимулирующие показатели'!BA13+'Стимулирующие показатели'!BB13+'Стимулирующие показатели'!BC13 -> 0 | AV13: ='Стимулирующие показатели'!BD13 -> 0 | AW13: ='Стимулирующие показатели'!BE13+'Стимулирующие показатели'!BF13+'Стимулирующие показатели'!BG13 -> 0 | AX13: ='Стимулирующие показатели'!BH13+'Стимулирующие показатели'!BI13+'Стимулирующие показатели'!BJ13+'Стимулирующие показатели'!BK13 -> 0 | AY13: ='Стимулирующие показатели'!BL13 -> 0 | AZ13: ='Стимулирующие показатели'!BM13 -> 0 | BA13: ='Стимулирующие показатели'!BN13 -> 0 | BB13: =SUM(I13:BA13) -> 0
A14: 6 | I14: ='Стимулирующие показатели'!C14 -> 0 | J14: ='Стимулирующие показатели'!D14 -> 0 | K14: ='Стимулирующие показатели'!E14 -> 0 | L14: ='Стимулирующие показатели'!F14 -> 0 | M14: ='Стимулирующие показатели'!G14 -> 0 | N14: ='Стимулирующие показатели'!H14+'Стимулирующие показатели'!I14 -> 0 | O14: ='Стимулирующие показатели'!J14 -> 0 | P14: ='Стимулирующие показатели'!K14 -> 0 | Q14: ='Стимулирующие показатели'!L14 -> 0 | R14: ='Стимулирующие показатели'!M14+'Стимулирующие показатели'!N14 -> 0 | S14: ='Стимулирующие показатели'!O14 -> 0 | T14: ='Стимулирующие показатели'!P14 -> 0 | U14: ='Стимулирующие показатели'!Q14 -> 0 | V14: ='Стимулирующие показатели'!R14 -> 0 | W14: ='Стимулирующие показатели'!S14 -> 0 | X14: ='Стимулирующие показатели'!T14 -> 0 | Y14: ='Стимулирующие показатели'!U14 -> 0 | Z14: ='Стимулирующие показатели'!V14 -> 0 | ... AF14: ='Стимулирующие показатели'!AB14 -> 0 | AG14: ='Стимулирующие показатели'!AC14+'Стимулирующие показатели'!AD14+'Стимулирующие показатели'!AE14 -> 0 | AH14: ='Стимулирующие показатели'!AF14 -> 0 | AI14: ='Стимулирующие показатели'!AG14 -> 0 | AJ14: ='Стимулирующие показатели'!AH14 -> 0 | AK14: ='Стимулирующие показатели'!AI14 -> 0 | AL14: ='Стимулирующие показатели'!AJ14 -> 0 | AM14: ='Стимулирующие показатели'!AK14 -> 0 | AN14: ='Стимулирующие показатели'!AL14+'Стимулирующие показатели'!AM14+'Стимулирующие показатели'!AN14+'Стимулирующие показатели'!AO14 -> 0 | AO14: ='Стимулирующие показатели'!AP14 -> 0 | AP14: ='Стимулирующие показатели'!AQ14 -> 0 | AQ14: ='Стимулирующие показатели'!AR14 -> 0 | AR14: ='Стимулирующие показатели'!AS14+'Стимулирующие показатели'!AT14+'Стимулирующие показатели'!AU14+'Стимулирующие показатели'!AV14 -> 0 | AS14: ='Стимулирующие показатели'!AW14 -> 0 | AT14: ='Стимулирующие показатели'!AX14 -> 0 | AU14: ='Стимулирующие показатели'!AY14+'Стимулирующие показатели'!AZ14+'Стимулирующие показатели'!BA14+'Стимулирующие показатели'!BB14+'Стимулирующие показатели'!BC14 -> 0 | AV14: ='Стимулирующие показатели'!BD14 -> 0 | AW14: ='Стимулирующие показатели'!BE14+'Стимулирующие показатели'!BF14+'Стимулирующие показатели'!BG14 -> 0 | AX14: ='Стимулирующие показатели'!BH14+'Стимулирующие показатели'!BI14+'Стимулирующие показатели'!BJ14+'Стимулирующие показатели'!BK14 -> 0 | AY14: ='Стимулирующие показатели'!BL14 -> 0 | AZ14: ='Стимулирующие показатели'!BM14 -> 0 | BA14: ='Стимулирующие показатели'!BN14 -> 0 | BB14: =SUM(I14:BA14) -> 0
A15: 7 | I15: ='Стимулирующие показатели'!C15 -> 0 | J15: ='Стимулирующие показатели'!D15 -> 0 | K15: ='Стимулирующие показатели'!E15 -> 0 | L15: ='Стимулирующие показатели'!F15 -> 0 | M15: ='Стимулирующие показатели'!G15 -> 0 | N15: ='Стимулирующие показатели'!H15+'Стимулирующие показатели'!I15 -> 0 | O15: ='Стимулирующие показатели'!J15 -> 0 | P15: ='Стимулирующие показатели'!K15 -> 0 | Q15: ='Стимулирующие показатели'!L15 -> 0 | R15: ='Стимулирующие показатели'!M15+'Стимулирующие показатели'!N15 -> 0 | S15: ='Стимулирующие показатели'!O15 -> 0 | T15: ='Стимулирующие показатели'!P15 -> 0 | U15: ='Стимулирующие показатели'!Q15 -> 0 | V15: ='Стимулирующие показатели'!R15 -> 0 | W15: ='Стимулирующие показатели'!S15 -> 0 | X15: ='Стимулирующие показатели'!T15 -> 0 | Y15: ='Стимулирующие показатели'!U15 -> 0 | Z15: ='Стимулирующие показатели'!V15 -> 0 | ... AF15: ='Стимулирующие показатели'!AB15 -> 0 | AG15: ='Стимулирующие показатели'!AC15+'Стимулирующие показатели'!AD15+'Стимулирующие показатели'!AE15 -> 0 | AH15: ='Стимулирующие показатели'!AF15 -> 0 | AI15: ='Стимулирующие показатели'!AG15 -> 0 | AJ15: ='Стимулирующие показатели'!AH15 -> 0 | AK15: ='Стимулирующие показатели'!AI15 -> 0 | AL15: ='Стимулирующие показатели'!AJ15 -> 0 | AM15: ='Стимулирующие показатели'!AK15 -> 0 | AN15: ='Стимулирующие показатели'!AL15+'Стимулирующие показатели'!AM15+'Стимулирующие показатели'!AN15+'Стимулирующие показатели'!AO15 -> 0 | AO15: ='Стимулирующие показатели'!AP15 -> 0 | AP15: ='Стимулирующие показатели'!AQ15 -> 0 | AQ15: ='Стимулирующие показатели'!AR15 -> 0 | AR15: ='Стимулирующие показатели'!AS15+'Стимулирующие показатели'!AT15+'Стимулирующие показатели'!AU15+'Стимулирующие показатели'!AV15 -> 0 | AS15: ='Стимулирующие показатели'!AW15 -> 0 | AT15: ='Стимулирующие показатели'!AX15 -> 0 | AU15: ='Стимулирующие показатели'!AY15+'Стимулирующие показатели'!AZ15+'Стимулирующие показатели'!BA15+'Стимулирующие показатели'!BB15+'Стимулирующие показатели'!BC15 -> 0 | AV15: ='Стимулирующие показатели'!BD15 -> 0 | AW15: ='Стимулирующие показатели'!BE15+'Стимулирующие показатели'!BF15+'Стимулирующие показатели'!BG15 -> 0 | AX15: ='Стимулирующие показатели'!BH15+'Стимулирующие показатели'!BI15+'Стимулирующие показатели'!BJ15+'Стимулирующие показатели'!BK15 -> 0 | AY15: ='Стимулирующие показатели'!BL15 -> 0 | AZ15: ='Стимулирующие показатели'!BM15 -> 0 | BA15: ='Стимулирующие показатели'!BN15 -> 0 | BB15: =SUM(I15:BA15) -> 0
A16: 8 | I16: ='Стимулирующие показатели'!C16 -> 0 | J16: ='Стимулирующие показатели'!D16 -> 0 | K16: ='Стимулирующие показатели'!E16 -> 0 | L16: ='Стимулирующие показатели'!F16 -> 0 | M16: ='Стимулирующие показатели'!G16 -> 0 | N16: ='Стимулирующие показатели'!H16+'Стимулирующие показатели'!I16 -> 0 | O16: ='Стимулирующие показатели'!J16 -> 0 | P16: ='Стимулирующие показатели'!K16 -> 0 | Q16: ='Стимулирующие показатели'!L16 -> 0 | R16: ='Стимулирующие показатели'!M16+'Стимулирующие показатели'!N16 -> 0 | S16: ='Стимулирующие показатели'!O16 -> 0 | T16: ='Стимулирующие показатели'!P16 -> 0 | U16: ='Стимулирующие показатели'!Q16 -> 0 | V16: ='Стимулирующие показатели'!R16 -> 0 | W16: ='Стимулирующие показатели'!S16 -> 0 | X16: ='Стимулирующие показатели'!T16 -> 0 | Y16: ='Стимулирующие показатели'!U16 -> 0 | Z16: ='Стимулирующие показатели'!V16 -> 0 | ... AF16: ='Стимулирующие показатели'!AB16 -> 0 | AG16: ='Стимулирующие показатели'!AC16+'Стимулирующие показатели'!AD16+'Стимулирующие показатели'!AE16 -> 0 | AH16: ='Стимулирующие показатели'!AF16 -> 0 | AI16: ='Стимулирующие показатели'!AG16 -> 0 | AJ16: ='Стимулирующие показатели'!AH16 -> 0 | AK16: ='Стимулирующие показатели'!AI16 -> 0 | AL16: ='Стимулирующие показатели'!AJ16 -> 0 | AM16: ='Стимулирующие показатели'!AK16 -> 0 | AN16: ='Стимулирующие показатели'!AL16+'Стимулирующие показатели'!AM16+'Стимулирующие показатели'!AN16+'Стимулирующие показатели'!AO16 -> 0 | AO16: ='Стимулирующие показатели'!AP16 -> 0 | AP16: ='Стимулирующие показатели'!AQ16 -> 0 | AQ16: ='Стимулирующие показатели'!AR16 -> 0 | AR16: ='Стимулирующие показатели'!AS16+'Стимулирующие показатели'!AT16+'Стимулирующие показатели'!AU16+'Стимулирующие показатели'!AV16 -> 0 | AS16: ='Стимулирующие показатели'!AW16 -> 0 | AT16: ='Стимулирующие показатели'!AX16 -> 0 | AU16: ='Стимулирующие показатели'!AY16+'Стимулирующие показатели'!AZ16+'Стимулирующие показатели'!BA16+'Стимулирующие показатели'!BB16+'Стимулирующие показатели'!BC16 -> 0 | AV16: ='Стимулирующие показатели'!BD16 -> 0 | AW16: ='Стимулирующие показатели'!BE16+'Стимулирующие показатели'!BF16+'Стимулирующие показатели'!BG16 -> 0 | AX16: ='Стимулирующие показатели'!BH16+'Стимулирующие показатели'!BI16+'Стимулирующие показатели'!BJ16+'Стимулирующие показатели'!BK16 -> 0 | AY16: ='Стимулирующие показатели'!BL16 -> 0 | AZ16: ='Стимулирующие показатели'!BM16 -> 0 | BA16: ='Стимулирующие показатели'!BN16 -> 0 | BB16: =SUM(I16:BA16) -> 0
A17: 9 | I17: ='Стимулирующие показатели'!C17 -> 0 | J17: ='Стимулирующие показатели'!D17 -> 0 | K17: ='Стимулирующие показатели'!E17 -> 0 | L17: ='Стимулирующие показатели'!F17 -> 0 | M17: ='Стимулирующие показатели'!G17 -> 0 | N17: ='Стимулирующие показатели'!H17+'Стимулирующие показатели'!I17 -> 0 | O17: ='Стимулирующие показатели'!J17 -> 0 | P17: ='Стимулирующие показатели'!K17 -> 0 | Q17: ='Стимулирующие показатели'!L17 -> 0 | R17: ='Стимулирующие показатели'!M17+'Стимулирующие показатели'!N17 -> 0 | S17: ='Стимулирующие показатели'!O17 -> 0 | T17: ='Стимулирующие показатели'!P17 -> 0 | U17: ='Стимулирующие показатели'!Q17 -> 0 | V17: ='Стимулирующие показатели'!R17 -> 0 | W17: ='Стимулирующие показатели'!S17 -> 0 | X17: ='Стимулирующие показатели'!T17 -> 0 | Y17: ='Стимулирующие показатели'!U17 -> 0 | Z17: ='Стимулирующие показатели'!V17 -> 0 | ... AF17: ='Стимулирующие показатели'!AB17 -> 0 | AG17: ='Стимулирующие показатели'!AC17+'Стимулирующие показатели'!AD17+'Стимулирующие показатели'!AE17 -> 0 | AH17: ='Стимулирующие показатели'!AF17 -> 0 | AI17: ='Стимулирующие показатели'!AG17 -> 0 | AJ17: ='Стимулирующие показатели'!AH17 -> 0 | AK17: ='Стимулирующие показатели'!AI17 -> 0 | AL17: ='Стимулирующие показатели'!AJ17 -> 0 | AM17: ='Стимулирующие показатели'!AK17 -> 0 | AN17: ='Стимулирующие показатели'!AL17+'Стимулирующие показатели'!AM17+'Стимулирующие показатели'!AN17+'Стимулирующие показатели'!AO17 -> 0 | AO17: ='Стимулирующие показатели'!AP17 -> 0 | AP17: ='Стимулирующие показатели'!AQ17 -> 0 | AQ17: ='Стимулирующие показатели'!AR17 -> 0 | AR17: ='Стимулирующие показатели'!AS17+'Стимулирующие показатели'!AT17+'Стимулирующие показатели'!AU17+'Стимулирующие показатели'!AV17 -> 0 | AS17: ='Стимулирующие показатели'!AW17 -> 0 | AT17: ='Стимулирующие показатели'!AX17 -> 0 | AU17: ='Стимулирующие показатели'!AY17+'Стимулирующие показатели'!AZ17+'Стимулирующие показатели'!BA17+'Стимулирующие показатели'!BB17+'Стимулирующие показатели'!BC17 -> 0 | AV17: ='Стимулирующие показатели'!BD17 -> 0 | AW17: ='Стимулирующие показатели'!BE17+'Стимулирующие показатели'!BF17+'Стимулирующие показатели'!BG17 -> 0 | AX17: ='Стимулирующие показатели'!BH17+'Стимулирующие показатели'!BI17+'Стимулирующие показатели'!BJ17+'Стимулирующие показатели'!BK17 -> 0 | AY17: ='Стимулирующие показатели'!BL17 -> 0 | AZ17: ='Стимулирующие показатели'!BM17 -> 0 | BA17: ='Стимулирующие показатели'!BN17 -> 0 | BB17: =SUM(I17:BA17) -> 0
A18: 10 | I18: ='Стимулирующие показатели'!C18 -> 0 | J18: ='Стимулирующие показатели'!D18 -> 0 | K18: ='Стимулирующие показатели'!E18 -> 0 | L18: ='Стимулирующие показатели'!F18 -> 0 | M18: ='Стимулирующие показатели'!G18 -> 0 | N18: ='Стимулирующие показатели'!H18+'Стимулирующие показатели'!I18 -> 0 | O18: ='Стимулирующие показатели'!J18 -> 0 | P18: ='Стимулирующие показатели'!K18 -> 0 | Q18: ='Стимулирующие показатели'!L18 -> 0 | R18: ='Стимулирующие показатели'!M18+'Стимулирующие показатели'!N18 -> 0 | S18: ='Стимулирующие показатели'!O18 -> 0 | T18: ='Стимулирующие показатели'!P18 -> 0 | U18: ='Стимулирующие показатели'!Q18 -> 0 | V18: ='Стимулирующие показатели'!R18 -> 0 | W18: ='Стимулирующие показатели'!S18 -> 0 | X18: ='Стимулирующие показатели'!T18 -> 0 | Y18: ='Стимулирующие показатели'!U18 -> 0 | Z18: ='Стимулирующие показатели'!V18 -> 0 | ... AF18: ='Стимулирующие показатели'!AB18 -> 0 | AG18: ='Стимулирующие показатели'!AC18+'Стимулирующие показатели'!AD18+'Стимулирующие показатели'!AE18 -> 0 | AH18: ='Стимулирующие показатели'!AF18 -> 0 | AI18: ='Стимулирующие показатели'!AG18 -> 0 | AJ18: ='Стимулирующие показатели'!AH18 -> 0 | AK18: ='Стимулирующие показатели'!AI18 -> 0 | AL18: ='Стимулирующие показатели'!AJ18 -> 0 | AM18: ='Стимулирующие показатели'!AK18 -> 0 | AN18: ='Стимулирующие показатели'!AL18+'Стимулирующие показатели'!AM18+'Стимулирующие показатели'!AN18+'Стимулирующие показатели'!AO18 -> 0 | AO18: ='Стимулирующие показатели'!AP18 -> 0 | AP18: ='Стимулирующие показатели'!AQ18 -> 0 | AQ18: ='Стимулирующие показатели'!AR18 -> 0 | AR18: ='Стимулирующие показатели'!AS18+'Стимулирующие показатели'!AT18+'Стимулирующие показатели'!AU18+'Стимулирующие показатели'!AV18 -> 0 | AS18: ='Стимулирующие показатели'!AW18 -> 0 | AT18: ='Стимулирующие показатели'!AX18 -> 0 | AU18: ='Стимулирующие показатели'!AY18+'Стимулирующие показатели'!AZ18+'Стимулирующие показатели'!BA18+'Стимулирующие показатели'!BB18+'Стимулирующие показатели'!BC18 -> 0 | AV18: ='Стимулирующие показатели'!BD18 -> 0 | AW18: ='Стимулирующие показатели'!BE18+'Стимулирующие показатели'!BF18+'Стимулирующие показатели'!BG18 -> 0 | AX18: ='Стимулирующие показатели'!BH18+'Стимулирующие показатели'!BI18+'Стимулирующие показатели'!BJ18+'Стимулирующие показатели'!BK18 -> 0 | AY18: ='Стимулирующие показатели'!BL18 -> 0 | AZ18: ='Стимулирующие показатели'!BM18 -> 0 | BA18: ='Стимулирующие показатели'!BN18 -> 0 | BB18: =SUM(I18:BA18) -> 0
A19: 11 | I19: ='Стимулирующие показатели'!C19 -> 0 | J19: ='Стимулирующие показатели'!D19 -> 0 | K19: ='Стимулирующие показатели'!E19 -> 0 | L19: ='Стимулирующие показатели'!F19 -> 0 | M19: ='Стимулирующие показатели'!G19 -> 0 | N19: ='Стимулирующие показатели'!H19+'Стимулирующие показатели'!I19 -> 0 | O19: ='Стимулирующие показатели'!J19 -> 0 | P19: ='Стимулирующие показатели'!K19 -> 0 | Q19: ='Стимулирующие показатели'!L19 -> 0 | R19: ='Стимулирующие показатели'!M19+'Стимулирующие показатели'!N19 -> 0 | S19: ='Стимулирующие показатели'!O19 -> 0 | T19: ='Стимулирующие показатели'!P19 -> 0 | U19: ='Стимулирующие показатели'!Q19 -> 0 | V19: ='Стимулирующие показатели'!R19 -> 0 | W19: ='Стимулирующие показатели'!S19 -> 0 | X19: ='Стимулирующие показатели'!T19 -> 0 | Y19: ='Стимулирующие показатели'!U19 -> 0 | Z19: ='Стимулирующие показатели'!V19 -> 0 | ... AF19: ='Стимулирующие показатели'!AB19 -> 0 | AG19: ='Стимулирующие показатели'!AC19+'Стимулирующие показатели'!AD19+'Стимулирующие показатели'!AE19 -> 0 | AH19: ='Стимулирующие показатели'!AF19 -> 0 | AI19: ='Стимулирующие показатели'!AG19 -> 0 | AJ19: ='Стимулирующие показатели'!AH19 -> 0 | AK19: ='Стимулирующие показатели'!AI19 -> 0 | AL19: ='Стимулирующие показатели'!AJ19 -> 0 | AM19: ='Стимулирующие показатели'!AK19 -> 0 | AN19: ='Стимулирующие показатели'!AL19+'Стимулирующие показатели'!AM19+'Стимулирующие показатели'!AN19+'Стимулирующие показатели'!AO19 -> 0 | AO19: ='Стимулирующие показатели'!AP19 -> 0 | AP19: ='Стимулирующие показатели'!AQ19 -> 0 | AQ19: ='Стимулирующие показатели'!AR19 -> 0 | AR19: ='Стимулирующие показатели'!AS19+'Стимулирующие показатели'!AT19+'Стимулирующие показатели'!AU19+'Стимулирующие показатели'!AV19 -> 0 | AS19: ='Стимулирующие показатели'!AW19 -> 0 | AT19: ='Стимулирующие показатели'!AX19 -> 0 | AU19: ='Стимулирующие показатели'!AY19+'Стимулирующие показатели'!AZ19+'Стимулирующие показатели'!BA19+'Стимулирующие показатели'!BB19+'Стимулирующие показатели'!BC19 -> 0 | AV19: ='Стимулирующие показатели'!BD19 -> 0 | AW19: ='Стимулирующие показатели'!BE19+'Стимулирующие показатели'!BF19+'Стимулирующие показатели'!BG19 -> 0 | AX19: ='Стимулирующие показатели'!BH19+'Стимулирующие показатели'!BI19+'Стимулирующие показатели'!BJ19+'Стимулирующие показатели'!BK19 -> 0 | AY19: ='Стимулирующие показатели'!BL19 -> 0 | AZ19: ='Стимулирующие показатели'!BM19 -> 0 | BA19: ='Стимулирующие показатели'!BN19 -> 0 | BB19: =SUM(I19:BA19) -> 0
A20: 12 | I20: ='Стимулирующие показатели'!C20 -> 0 | J20: ='Стимулирующие показатели'!D20 -> 0 | K20: ='Стимулирующие показатели'!E20 -> 0 | L20: ='Стимулирующие показатели'!F20 -> 0 | M20: ='Стимулирующие показатели'!G20 -> 0 | N20: ='Стимулирующие показатели'!H20+'Стимулирующие показатели'!I20 -> 0 | O20: ='Стимулирующие показатели'!J20 -> 0 | P20: ='Стимулирующие показатели'!K20 -> 0 | Q20: ='Стимулирующие показатели'!L20 -> 0 | R20: ='Стимулирующие показатели'!M20+'Стимулирующие показатели'!N20 -> 0 | S20: ='Стимулирующие показатели'!O20 -> 0 | T20: ='Стимулирующие показатели'!P20 -> 0 | U20: ='Стимулирующие показатели'!Q20 -> 0 | V20: ='Стимулирующие показатели'!R20 -> 0 | W20: ='Стимулирующие показатели'!S20 -> 0 | X20: ='Стимулирующие показатели'!T20 -> 0 | Y20: ='Стимулирующие показатели'!U20 -> 0 | Z20: ='Стимулирующие показатели'!V20 -> 0 | ... AF20: ='Стимулирующие показатели'!AB20 -> 0 | AG20: ='Стимулирующие показатели'!AC20+'Стимулирующие показатели'!AD20+'Стимулирующие показатели'!AE20 -> 0 | AH20: ='Стимулирующие показатели'!AF20 -> 0 | AI20: ='Стимулирующие показатели'!AG20 -> 0 | AJ20: ='Стимулирующие показатели'!AH20 -> 0 | AK20: ='Стимулирующие показатели'!AI20 -> 0 | AL20: ='Стимулирующие показатели'!AJ20 -> 0 | AM20: ='Стимулирующие показатели'!AK20 -> 0 | AN20: ='Стимулирующие показатели'!AL20+'Стимулирующие показатели'!AM20+'Стимулирующие показатели'!AN20+'Стимулирующие показатели'!AO20 -> 0 | AO20: ='Стимулирующие показатели'!AP20 -> 0 | AP20: ='Стимулирующие показатели'!AQ20 -> 0 | AQ20: ='Стимулирующие показатели'!AR20 -> 0 | AR20: ='Стимулирующие показатели'!AS20+'Стимулирующие показатели'!AT20+'Стимулирующие показатели'!AU20+'Стимулирующие показатели'!AV20 -> 0 | AS20: ='Стимулирующие показатели'!AW20 -> 0 | AT20: ='Стимулирующие показатели'!AX20 -> 0 | AU20: ='Стимулирующие показатели'!AY20+'Стимулирующие показатели'!AZ20+'Стимулирующие показатели'!BA20+'Стимулирующие показатели'!BB20+'Стимулирующие показатели'!BC20 -> 0 | AV20: ='Стимулирующие показатели'!BD20 -> 0 | AW20: ='Стимулирующие показатели'!BE20+'Стимулирующие показатели'!BF20+'Стимулирующие показатели'!BG20 -> 0 | AX20: ='Стимулирующие показатели'!BH20+'Стимулирующие показатели'!BI20+'Стимулирующие показатели'!BJ20+'Стимулирующие показатели'!BK20 -> 0 | AY20: ='Стимулирующие показатели'!BL20 -> 0 | AZ20: ='Стимулирующие показатели'!BM20 -> 0 | BA20: ='Стимулирующие показатели'!BN20 -> 0 | BB20: =SUM(I20:BA20) -> 0
... A47: 39 | I47: ='Стимулирующие показатели'!C47 -> 0 | J47: ='Стимулирующие показатели'!D47 -> 0 | K47: ='Стимулирующие показатели'!E47 -> 0 | L47: ='Стимулирующие показатели'!F47 -> 0 | M47: ='Стимулирующие показатели'!G47 -> 0 | N47: ='Стимулирующие показатели'!H47+'Стимулирующие показатели'!I47 -> 0 | O47: ='Стимулирующие показатели'!J47 -> 0 | P47: ='Стимулирующие показатели'!K47 -> 0 | Q47: ='Стимулирующие показатели'!L47 -> 0 | R47: ='Стимулирующие показатели'!M47+'Стимулирующие показатели'!N47 -> 0 | S47: ='Стимулирующие показатели'!O47 -> 0 | T47: ='Стимулирующие показатели'!P47 -> 0 | U47: ='Стимулирующие показатели'!Q47 -> 0 | V47: ='Стимулирующие показатели'!R47 -> 0 | W47: ='Стимулирующие показатели'!S47 -> 0 | X47: ='Стимулирующие показатели'!T47 -> 0 | Y47: ='Стимулирующие показатели'!U47 -> 0 | Z47: ='Стимулирующие показатели'!V47 -> 0 | ... AF47: ='Стимулирующие показатели'!AB47 -> 0 | AG47: ='Стимулирующие показатели'!AC47+'Стимулирующие показатели'!AD47+'Стимулирующие показатели'!AE47 -> 0 | AH47: ='Стимулирующие показатели'!AF47 -> 0 | AI47: ='Стимулирующие показатели'!AG47 -> 0 | AJ47: ='Стимулирующие показатели'!AH47 -> 0 | AK47: ='Стимулирующие показатели'!AI47 -> 0 | AL47: ='Стимулирующие показатели'!AJ47 -> 0 | AM47: ='Стимулирующие показатели'!AK47 -> 0 | AN47: ='Стимулирующие показатели'!AL47+'Стимулирующие показатели'!AM47+'Стимулирующие показатели'!AN47+'Стимулирующие показатели'!AO47 -> 0 | AO47: ='Стимулирующие показатели'!AP47 -> 0 | AP47: ='Стимулирующие показатели'!AQ47 -> 0 | AQ47: ='Стимулирующие показатели'!AR47 -> 0 | AR47: ='Стимулирующие показатели'!AS47+'Стимулирующие показатели'!AT47+'Стимулирующие показатели'!AU47+'Стимулирующие показатели'!AV47 -> 0 | AS47: ='Стимулирующие показатели'!AW47 -> 0 | AT47: ='Стимулирующие показатели'!AX47 -> 0 | AU47: ='Стимулирующие показатели'!AY47+'Стимулирующие показатели'!AZ47+'Стимулирующие показатели'!BA47+'Стимулирующие показатели'!BB47+'Стимулирующие показатели'!BC47 -> 0 | AV47: ='Стимулирующие показатели'!BD47 -> 0 | AW47: ='Стимулирующие показатели'!BE47+'Стимулирующие показатели'!BF47+'Стимулирующие показатели'!BG47 -> 0 | AX47: ='Стимулирующие показатели'!BH47+'Стимулирующие показатели'!BI47+'Стимулирующие показатели'!BJ47+'Стимулирующие показатели'!BK47 -> 0 | AY47: ='Стимулирующие показатели'!BL47 -> 0 | AZ47: ='Стимулирующие показатели'!BM47 -> 0 | BA47: ='Стимулирующие показатели'!BN47 -> 0 | BB47: =SUM(I47:BA47) -> 0
C50: Декан (директор)
C53: Заведующий кафедрой

Sheet Стимулирующие показатели
A6: № п/п | B6: ФИО | C6: Учебная и учебно-методическая работа | L6: Науно-исследовательская и международная работа | AL6: Подготовка научно-педагогических кадров и НИРС | AY6: Воспитательная, организационная и профориентационная работа и реклама
C7: 1. Руководство ВКР в форме проектов (выполненных по заявке работодателя со смежными отраслями) не менее 4 смежных отраслей, по доле участия | D7: 2. Учебник с грифом ФУМО по доле участия, после утверждения на УМС университета | E7: 3. Учебное пособие с грифом ФУМО по доле участия, после утверждения на УМС университета | F7: 4. Внутривузовское учебно-методическое издание (включая программу ГИА и программы практик) по доле участия | G7: 5.Внутривузовская новая рабочая программа (включая ФОС) по дисциплине СПО, ВО (по стандартам 3++ и 4 поколения) по доле участия, при наличии регистрации в отделе по качеству образовательной деятельности | H7: 6. Разработка новой программы повышения квалификации по доле участия, при наличии регистрации в ИДПО | J7: 7. Разработка новой программы профессиональной переподготовки по доле участия, при наличии регистрации в ИДПО | K7: 8. Разработка курса дисциплин в системе MOODLE по доле участия, при наличии подтверждения в отделе методического и информационного обеспечения (ЦИТ) | L7: 9. Издание монографии с исключительными правами университета по доле участия, переиздание не учитывается | M7: 10. Публикации в изданиях Белого списка, уровень 1 по доле участия, в год получения, оплачивается по приказу. Баллы по данному пункту учитываются только в рейтинге кафедры. | N7: 10.1. Публикации в изданиях Белого списка, уровень 2 по доле участия, в год получения, оплачивается по приказу. Баллы по данному пункту учитываются только в рейтинге кафедры. | O7: 11. Публикации в изданиях Университета биотехнологий, Белый списк, уровень 2 по доле участия, в год получения | P7: 12. Публикации в изданиях Белого списка, уровень 3 по доле участия, в год получения | Q7: 13. Публикация в рецензируемых журналах ВАК, не входящих в Белый список по доле участия, в год получения | R7: 14. Публикация в журналах, входящих в базу РИНЦ по доле участия, в год получения | S7: 15. Публикация в сборниках трудов и т.п. изданиях, включенных в базу РИНЦ по доле участия, в год получения | T7: 16. Апробация результатов научно-исследовательской (творческой) деятельности на национальных и международных конференциях (докладчик, устный доклад, очное участие) при наличии сборника трудов, сертификата, программы конференции | U7: 17. Патент на селекционное достижение по доле участия в год получения, оплачивается по приказу. Баллы по данному пункту учитываются только в рейтинге кафедры. | V7: 18. Патент на изобретение, полезную модель по доле участия в год получения, оплачивается по приказу. Баллы по данному пункту учитываются только в рейтинге кафедры. | W7: 19. Свидетельство о регистрации базы данных по доле участия в год получения, оплачивается по приказу. Баллы по данному пункту учитываются только в рейтинге кафедры. | X7: 20. Оформление финансируемого лицензионного договора на патент по доле участия в год получения, оплачивается по приказу. Баллы по данному пункту учитываются только в рейтинге кафедры. | Y7: 21. Резензирование научной и учебно-методической литературы (учебника, монографии, учебного пособия, методических указаний, научных отчетов, статей) указание выходных данных | Z7: 22. Формирование заявки на грант международного уровня по доле участия, при наличии заявки с номером регистрации.Рассматриваются заявки, принятые к рассмотрению организацией грантодателем. Баллы по данному пункту учитываются только в рейтинге кафедры | AA7: 23. Формирование заявки на грант федерального значения (РНФ, ФНТП, КНТП, Министрества образования и т.д.) по доле участия, при наличии заявки с номером регистрации.Рассматриваются заявки, принятые к рассмотрению организацией грантодателем. Баллы по данному пункту учитываются только в рейтинге кафедры | AB7: 24. Формирование индивидуальных заявок на гранты, руководство студенческим стартапом по доле участия, при наличии заявки с номером регистрации.Рассматриваются заявки, принятые к рассмотрению организацией грантодателем. | AC7: 25. Получение гранта по доле участия, по факту поступления финансовых средств. Доходы от подразделений не учитываются. Баллы по данному пункту учитываются только в рейтинге кафедры. | AF7: 26. Хоздоговорные работы НПР по доле участия, по факту поступления финансовых средств. Доходы от подразделений не учитываются. Баллы по данному пункту учитываются только в рейтинге кафедры | AG7: 27. Информационно-консультационные услуги НПР (договора НИЧ и ИДПО) по доле участия, по факту поступления финансовых средств. Доходы от подразделений не учитываются. Баллы по данному пункту учитываются только в рейтинге кафедры | AH7: 28. Индивидуальный грант, стартап по доле участия, по факту поступления финансовых средств. Доходы от подразделений не учитываются. Баллы по данному пункту учитываются только в рейтинге кафедры | AI7: 29. Сотрудничество с зарубежными учеными Баллы по данному пункту учитываются только в рейтинге кафедры | AJ7: 30. Подготовка документов для международных рейтингов по доле участия | AK7: 31. Число приглашенных иностранных ученых (чтение лекций, ведение семинарских занятий) Баллы по данному пункту учитываются только в рейтинге кафедры. | AL7: 32. Участие с докладом или работой / диплом победителя студенческой олимпиады (конкурса), конференции, подготовленного под Вашим руководством при наличии диплома или свидетельства участника | AP7: 33. Руководство научным треком, зарегисрированным в НИЧ при наличии регистрации и годового отчета | AQ7: 34. Защита докторской диссертации оплачивается по приказу, баллы по данному пункту учитываются только в рейтинге кафедры | AR7: 35. Защита кандидатской диссертации оплачивается по приказу, баллы по данному пункту учитываются только в рейтинге кафедры | AS7: 36. Научная статья по результатам научных исследований, подготовленного Вами студента (без соавторства с руководителем) по доле участия руководителей | AW7: 37. Отзыв ведущей организации, официального оппонента на кандидатскую/ докторскую диссертацию при наличии копии отзыва | AX7: 38. Отзыв на автореферат кандидатской/ докторской диссертации при наличии копии отзыва | AY7: 39. Организация и проведение научных, производственных, культурных и спортивных мероприятий для специалистов, преподавателей, аспирантов и студентов, школьников (конференций, олимпиад, соревнований, конкурсов, КВНов) представителям оргкомитета (приналичии программы), кроме кураторов, по доле участия | BD7: 40. Организация и проведение мероприятий для специалистов, преподавателей, аспирантов и студентов, школьников (лекций, бесед, встреч, экскурсий) при наличии подтверждающих документов | BE7: 41. Диплом/медаль участника выставки при наличии диплома/медали | BH7: 42. Диплом (медаль) победителя студенческого творческого конкурса, спортивного состязания, подготовленного под вашим руководством при наличии диплома (медали) | BL7: 43. Разработка внутривузовской нормативной документации по оптимизации работы (воспитательной, учебно-методической, научной и др.) для членов комиссий и разработчиков/составителей, по доле участия | BM7: 44. Профориентационная работа (посещение школ, участие в районных ярмарках учебных мест, выступление на радио, телевидении, в газете и т.д.) при наличии подтверждающих документов | BN7: 45. Участие в общественных организациях (комиссиях) при наличии подтверждающих документов
C8: 50 баллов за шт. | D8: 15 баллов за п.л. | E8: 7 баллов за п.л. | F8: 2 балла за п.л. | G8: 3 балла за з.е. | H8: от 16 до 40 часов 5 баллов за шт. | I8: от 40 часов и выше 10 баллов за шт. | J8: свыше 250 часов 25 баллов за шт. | K8: 2 балла за з.е. | L8: 10 баллов за усл-изд.л | M8: 100 баллов за шт. | N8: 50 баллов за шт. | O8: 50 баллов за шт. | P8: 25 баллов за шт. | Q8: 15 баллов за шт. | R8: 10 баллов за шт. | S8: 5 баллов за шт. | T8: 25 баллов за шт. | U8: 200 баллов за шт. | V8: 50 баллов за шт. | W8: 25 баллов за шт. | X8: 50 баллов за шт. | Y8: 0,5 баллов за усл-изд.л. | Z8: 75 баллов за шт. | AA8: 50 баллов за шт. | AB8: 10 баллов за шт. | AC8: международного уровня 150 баллов за шт. | AD8: федерального уровня 100 баллов за шт. | AE8: регионального уровня 50 баллов за шт. | AF8: 10 баллов за каждые 60 тысяч рублей | AG8: 10 баллов за каждые 60 тысяч рублей | AH8: 5 баллов за каждые 60 тысяч рублей | AI8: 25 баллов за шт. | AJ8: 10 баллов за усл-изд.л. | AK8: 20 баллов за чел. | AL8: зарубежной 5/10 баллов за шт. | AM8: российской, международной 3/7 баллов за шт. | AN8: региональной 2/5 баллов за шт. | AO8: вузовской 1/2 баллов за шт. | AP8: 20 баллов за шт. | AQ8: 200 баллов за шт. | AR8: 100 баллов за шт. | AS8: в рецензируемых журналах ВАК 10 баллов за шт. | AT8: в журналах, входящих в базу РИНЦ 8 баллов за шт. | AU8: в сборниках трудов и т.п. изданиях, включенных в базу РИНЦ 6 баллов за шт. | AV8: местных сборниках и прочих изданиях 4 балла за шт. | AW8: 10/20 баллов за шт. | AX8: 3/6 баллов за шт. | AY8: международных 18 баллов за шт. | AZ8: всероссийских 15 баллов за шт. | BA8: региональных (областных, городских) 12 баллов за шт. | BB8: вузовских 9 баллов за шт. | BC8: на факультете 6 баллов за шт. | BD8: 5 баллов за шт. | BE8: зарубежной 15 баллов за шт. | BF8: всероссийской, международной 10 баллов за шт. | BG8: региональной/городской 7 баллов за шт. | BH8: зарубежного (чемпион, призер Мира, Европы) 10 баллов за шт. | BI8: всероссийского, международного (чемпион, призер России, вузов МСХ) 7 баллов за шт. | BJ8: регионального, областного, городского (чемпион, призер Сиб ФО) 5 баллов за шт. | BK8: внутривузовский (чемпион, призер Спартакиады) 2 балла за шт. | BL8: 3 балла за шт. | BM8: 3 балла за мероприятие | BN8: 5 баллов за мероприятие
A9: =Сводная!A9 -> 1 | B9: =IF(ISBLANK(Сводная!B9),"",Сводная!B9)
A10: =Сводная!A10 -> 2 | B10: =IF(ISBLANK(Сводная!B10),"",Сводная!B10)
A11: =Сводная!A11 -> 3 | B11: =IF(ISBLANK(Сводная!B11),"",Сводная!B11)
A12: =Сводная!A12 -> 4 | B12: =IF(ISBLANK(Сводная!B12),"",Сводная!B12)
A13: =Сводная!A13 -> 5 | B13: =IF(ISBLANK(Сводная!B13),"",Сводная!B13)
A14: =Сводная!A14 -> 6 | B14: =IF(ISBLANK(Сводная!B14),"",Сводная!B14)
A15: =Сводная!A15 -> 7 | B15: =IF(ISBLANK(Сводная!B15),"",Сводная!B15)
A16: =Сводная!A16 -> 8 | B16: =IF(ISBLANK(Сводная!B16),"",Сводная!B16)
A17: =Сводная!A17 -> 9 | B17: =IF(ISBLANK(Сводная!B17),"",Сводная!B17)
A18: =Сводная!A18 -> 10 | B18: =IF(ISBLANK(Сводная!B18),"",Сводная!B18)
A19: =Сводная!A19 -> 11 | B19: =IF(ISBLANK(Сводная!B19),"",Сводная!B19)
A20: =Сводная!A20 -> 12 | B20: =IF(ISBLANK(Сводная!B20),"",Сводная!B20)
... A47: =Сводная!A47 -> 39 | B47: =IF(ISBLANK(Сводная!B47),"",Сводная!B47)

Sheet Лист1
A1: Обеспеченность | B1: 1
A2: Успеваемость | B2: 0.75
A3: К_Статей | B3: 1
A4: Доходы_НИР | B4: 60000
D5: Зав.кафедрой | G5: Ассистент | K5: Доцент | M5: Кандидат наук | O5: Штатный
D6: Нет | G6: Доцент | K6: Профессор | M6: Доктор наук | O6: Внешнее совместительство
G7: Преподаватель
G8: Профессор
G9: Старший преподаватель
